BEGIN:VCALENDAR

VERSION:2.0

PRODID:-//hacksw/handcal//NONSGML v1.0//EN

BEGIN:VEVENT

UID:849dff550ec62d28b5c4ed15155a84bf

DTSTAMP:20260421T082031Z

DTSTART:20260315T110000

DTEND:20260315T113000

SUMMARY:L39641647 - 34 Docker Court, ALTONA MEADOWS VIC 3028

LOCATION:34 Docker Court, ALTONA MEADOWS VIC 3028

END:VEVENT

END:VCALENDAR