BEGIN:VCALENDAR

VERSION:2.0

PRODID:-//hacksw/handcal//NONSGML v1.0//EN

BEGIN:VEVENT

UID:6750dcee419001291fdd6a6bcbd842d5

DTSTAMP:20260420T084706Z

DTSTART:20260314T113000

DTEND:20260314T120000

SUMMARY:L39406631 - 2/93 Millers Road, ALTONA NORTH VIC 3025

LOCATION:2/93 Millers Road, ALTONA NORTH VIC 3025

END:VEVENT

END:VCALENDAR