BEGIN:VCALENDAR

VERSION:2.0

PRODID:-//hacksw/handcal//NONSGML v1.0//EN

BEGIN:VEVENT

UID:8b35666e39b35f5d17a4373d4592387c

DTSTAMP:20260424T143633Z

DTSTART:20210227T124000

DTEND:20210227T125500

SUMMARY:R1034123 - 25 Wenlock Avenue, ALTONA MEADOWS VIC 3028

LOCATION:25 Wenlock Avenue, ALTONA MEADOWS VIC 3028

END:VEVENT

END:VCALENDAR