BEGIN:VCALENDAR

VERSION:2.0

PRODID:-//hacksw/handcal//NONSGML v1.0//EN

BEGIN:VEVENT

UID:35a2ea6e5e62825b8effd09374cd7b25

DTSTAMP:20260424T145807Z

DTSTART:20210227T114500

DTEND:20210227T121500

SUMMARY: - 

LOCATION:

END:VEVENT

END:VCALENDAR