BEGIN:VCALENDAR

VERSION:2.0

PRODID:-//hacksw/handcal//NONSGML v1.0//EN

BEGIN:VEVENT

UID:c0a2b2b76333aef7bdbc861318e22fa1

DTSTAMP:20260424T145736Z

DTSTART:20210227T123000

DTEND:20210227T130000

SUMMARY: - 

LOCATION:

END:VEVENT

END:VCALENDAR