BEGIN:VCALENDAR

VERSION:2.0

PRODID:-//hacksw/handcal//NONSGML v1.0//EN

BEGIN:VEVENT

UID:6cb9c2471f33f419b31cbd5d66951d24

DTSTAMP:20260424T145736Z

DTSTART:20210227T000000

DTEND:20210227T000000

SUMMARY: - 

LOCATION:

END:VEVENT

END:VCALENDAR