BEGIN:VCALENDAR

VERSION:2.0

PRODID:-//hacksw/handcal//NONSGML v1.0//EN

BEGIN:VEVENT

UID:760259a9f9e5f3fee547b013cca16015

DTSTAMP:20260424T145807Z

DTSTART:20210227T110000

DTEND:20210227T113000

SUMMARY:L4865713 - 43 Hosie Street, ALTONA MEADOWS VIC 3028

LOCATION:43 Hosie Street, ALTONA MEADOWS VIC 3028

END:VEVENT

END:VCALENDAR