BEGIN:VCALENDAR

VERSION:2.0

PRODID:-//hacksw/handcal//NONSGML v1.0//EN

BEGIN:VEVENT

UID:991a8c4777f8e4ca8522a4b99ad868b7

DTSTAMP:20260424T152258Z

DTSTART:20210227T120000

DTEND:20210227T123000

SUMMARY:L3815429 - 29 Boathouse Drive, CAROLINE SPRINGS VIC 3023

LOCATION:29 Boathouse Drive, CAROLINE SPRINGS VIC 3023

END:VEVENT

END:VCALENDAR