BEGIN:VCALENDAR

VERSION:2.0

PRODID:-//hacksw/handcal//NONSGML v1.0//EN

BEGIN:VEVENT

UID:20d3dfbcd4afb40339fb4d869fa76a65

DTSTAMP:20210225T185105Z

DTSTART:20210227T124500

DTEND:20210227T131500

SUMMARY:L5746993 - 191 Millers Road, ALTONA NORTH VIC 3025

LOCATION:191 Millers Road, ALTONA NORTH VIC 3025

END:VEVENT

END:VCALENDAR