BEGIN:VCALENDAR

VERSION:2.0

PRODID:-//hacksw/handcal//NONSGML v1.0//EN

BEGIN:VEVENT

UID:beb86e2de1b6fc179ecf79a6f0474e70

DTSTAMP:20210225T184917Z

DTSTART:20210227T110000

DTEND:20210227T113000

SUMMARY:L3816058 - 12 Seddon Place, CAROLINE SPRINGS VIC 3023

LOCATION:12 Seddon Place, CAROLINE SPRINGS VIC 3023

END:VEVENT

END:VCALENDAR