BEGIN:VCALENDAR

VERSION:2.0

PRODID:-//hacksw/handcal//NONSGML v1.0//EN

BEGIN:VEVENT

UID:269fa052a3e3db86b9c979ceeb14606f

DTSTAMP:20210225T185039Z

DTSTART:20210227T120000

DTEND:20210227T123000

SUMMARY:L5562028 - 2/47 Curlew Avenue, ALTONA VIC 3018

LOCATION:2/47 Curlew Avenue, ALTONA VIC 3018

END:VEVENT

END:VCALENDAR