BEGIN:VCALENDAR

VERSION:2.0

PRODID:-//hacksw/handcal//NONSGML v1.0//EN

BEGIN:VEVENT

UID:b002fe704da377f87d44f103f06c23de

DTSTAMP:20210225T184931Z

DTSTART:20210227T114500

DTEND:20210227T121500

SUMMARY:L5135868 - 16 Dolman Lane, NEWPORT VIC 3015

LOCATION:16 Dolman Lane, NEWPORT VIC 3015

END:VEVENT

END:VCALENDAR