BEGIN:VCALENDAR

VERSION:2.0

PRODID:-//hacksw/handcal//NONSGML v1.0//EN

BEGIN:VEVENT

UID:61d46e60445c0c0b26707ca369f42d9e

DTSTAMP:20210225T185053Z

DTSTART:20210227T123000

DTEND:20210227T130000

SUMMARY:L5455824 - 40 Blenheim Road, NEWPORT VIC 3015

LOCATION:40 Blenheim Road, NEWPORT VIC 3015

END:VEVENT

END:VCALENDAR