BEGIN:VCALENDAR

VERSION:2.0

PRODID:-//hacksw/handcal//NONSGML v1.0//EN

BEGIN:VEVENT

UID:94b48c3f2a347c46cb3fdb3d845b45ae

DTSTAMP:20210225T184328Z

DTSTART:20210227T000000

DTEND:20210227T000000

SUMMARY:L5455824 - 40 Blenheim Road, NEWPORT VIC 3015

LOCATION:40 Blenheim Road, NEWPORT VIC 3015

END:VEVENT

END:VCALENDAR