BEGIN:VCALENDAR

VERSION:2.0

PRODID:-//hacksw/handcal//NONSGML v1.0//EN

BEGIN:VEVENT

UID:2592465dfa7245509d49ac067f817f32

DTSTAMP:20210225T184842Z

DTSTART:20210227T110000

DTEND:20210227T113000

SUMMARY:L5454375 - 1/15 Tomkin Court, ALTONA MEADOWS VIC 3028

LOCATION:1/15 Tomkin Court, ALTONA MEADOWS VIC 3028

END:VEVENT

END:VCALENDAR