BEGIN:VCALENDAR

VERSION:2.0

PRODID:-//hacksw/handcal//NONSGML v1.0//EN

BEGIN:VEVENT

UID:1817c34a01941f8668de2b7c1a31701d

DTSTAMP:20200301T101728Z

DTSTART:20200307T110000

DTEND:20200307T113000

SUMMARY:21890068 - 72 Gordon Street, NEWPORT VIC 3015

LOCATION:72 Gordon Street, NEWPORT VIC 3015

END:VEVENT

END:VCALENDAR