BEGIN:VCALENDAR

VERSION:2.0

PRODID:-//hacksw/handcal//NONSGML v1.0//EN

BEGIN:VEVENT

UID:10628988f049d2a5c914f1998a2d0912

DTSTAMP:20200301T101706Z

DTSTART:20200303T180000

DTEND:20200303T183000

SUMMARY:21798320 - 4 The Esplanade, CAROLINE SPRINGS VIC 3023

LOCATION:4 The Esplanade, CAROLINE SPRINGS VIC 3023

END:VEVENT

END:VCALENDAR